BEGIN:VCALENDAR
VERSION:2.0
PRODID:-//gruenesbrett//NONSGML v1.0//EN
X-WR-CALNAME:Grünes Brett
BEGIN:VEVENT
UID:3upwy9obzbje7@gruenesbrett
DTSTAMP:20260424T115545Z
DTSTART;TZID=Europe/Berlin:20260515T100000
DTEND;TZID=Europe/Berlin:20260515T000000
SUMMARY:Mahdgutebräumung Ameisenbläulingswiese
DESCRIPTION:Treffpunkt für Mitfahrgelegenheiten: 10 Uhr auf dem Parkplatz des botanischen Garten Chemnitz        Die Beräumung des Mahdguts auf einer unserer wertvollsten Flächen im Mai ist eine besondere Herausforderung. Aufgrund der Wieseneigenschaften und dem fragilen Ökosystem des Wiesenknopf-Ameisenbläulings, braucht es vorzugsweise eine händische Beräumung und damit viele Helfer. Unterstützen Sie uns beim Schutz und Erhalt dieses einzigartigen Biotops!    Wir freuen uns auf rege Teilnahme, für einen Imbiss ist gesorgt!     Anmeldung unter info@nabu-rve.de oder unter 0163 3637816
CATEGORIES:Exkursion
URL:https://www.gruenesbrett.net/veranstaltung/3upwy9obzbje7
LOCATION:Chemnitztalradweg
END:VEVENT
END:VCALENDAR
