BEGIN:VCALENDAR
VERSION:2.0
PRODID:-//gruenesbrett//NONSGML v1.0//EN
X-WR-CALNAME:Grünes Brett
BEGIN:VEVENT
UID:atfnakr9wy39k@gruenesbrett
DTSTAMP:20260422T095924Z
DTSTART;TZID=Europe/Berlin:20260526T170000
DTEND;TZID=Europe/Berlin:20260526T200000
SUMMARY:Raus aufs Land um Dresden
DESCRIPTION:Gemeinschaftlich Wohnen um Dresden & Ostsachsen  - Informations- und Vernetzungsabend       Programm     Input: Vorstellung des kostenlosen Unterstützungsangebots der Dezentrale    Austausch & Vernetzung:  – Gegenseitiges Kennenlernen der Teilnehmenden  – Podiumsdiskussion mit Menschen aus Wohnprojekten zum Thema:  „Gemeinschaftlich Wohnen – Der Weg zum Wohnprojekt“  inkl. Vorstellungen bestehender Projekte, die Mitmachende suchen  & anschließender Austausch  – Vorstellung möglicher Immobilien für neue Wohnprojekte  – Ausklang beim gemeinsamen Abendessen mit Mitbringbuffet    Für wen?  Alle, die vom Leben in Gemeinschaft auf dem Land träumen, sich bereits in Gruppen organisieren oder Projekte aufbauen möchten.  Offen für Einzelpersonen, Familien und Gruppen.    Eine Anmeldung wird erbeten    Mitbringbuffet: Wir freuen uns auf ein gemeinsames Essen, bringt dazu gern etwas mit.  Einen Link zur unserer Mitbringbuffet-Liste erhälst du in der Anmeldebestätigung.
CATEGORIES:Treffen
URL:https://www.gruenesbrett.net/veranstaltung/atfnakr9wy39k
LOCATION:Alte Gärtnerei
END:VEVENT
END:VCALENDAR
