BEGIN:VCALENDAR
VERSION:2.0
PRODID:-//gruenesbrett//NONSGML v1.0//EN
X-WR-CALNAME:Grünes Brett
BEGIN:VEVENT
UID:cvd9a9pka473m@gruenesbrett
DTSTAMP:20260421T181917Z
DTSTART;TZID=Europe/Berlin:20260509T100000
DTEND;TZID=Europe/Berlin:20260509T120000
SUMMARY:Müllsammelaktion in Dresden-Pieschen
DESCRIPTION:Wir laden Euch herzlichst zu unserer zweiten Müllsammelaktion in 2026 ein, die unter dem Motto "ALLES NEU MACHT DER MAI" steht 😊🙃    🏘️ Einsatzort:   Robert-Matzke-Straße, Markusstraße, Rehefelder Straße, Mohnstraße, Arno-Lade-Straße, Altpieschen und Braunschweiger Straße    📅 Datum und Zeit:   Sa., 9. Mai 2026, 10:00 bis 12:00 Uhr   Kommt und geht, wie es für euch am besten passt.    📍 Treffpunkt:   Robert-Matzke-Straße 14, Oberschule Pieschen    Jede helfende Hand ist herzlich willkommen!    Bitte bringt euch (wenn möglich) Handschuhe mit. Greifer und Müllsäcke stellt uns das Stadtbezirksamt Pieschen zur Verfügung.    Wir freuen uns auf euch! 😊
CATEGORIES:Pflegeeinsatz,Treffen
URL:https://www.gruenesbrett.net/veranstaltung/cvd9a9pka473m
LOCATION:Dresden-Pieschen
END:VEVENT
END:VCALENDAR
