BEGIN:VCALENDAR
VERSION:2.0
PRODID:-//gruenesbrett//NONSGML v1.0//EN
X-WR-CALNAME:Grünes Brett
BEGIN:VEVENT
UID:ek24g82o6hvck@gruenesbrett
DTSTAMP:20260424T115316Z
DTSTART;TZID=Europe/Berlin:20260426T093000
DTEND;TZID=Europe/Berlin:20260426T130000
SUMMARY:Amphibienzaunabbau
DESCRIPTION:Treffpunkt für Mitfahrgelegenheiten: 9 Uhr auf dem Parkplatz des botanischen Garten Chemnitz     Am 1.3. wurden die Amphibienzäune aufgestellt und schützen seitdem Erdkröten, Teichfrösche, Molche und Echsen vor dem Straßenverkehr. Der Abbau des Zauns findet zum Ende der Wanderung statt.     Wir freuen uns auf rege Teilnahme, für einen Imbiss ist gesorgt!     Anmeldung unter info@nabu-rve.de oder unter 0163 3637816
CATEGORIES:Exkursion
URL:https://www.gruenesbrett.net/veranstaltung/ek24g82o6hvck
LOCATION:Amphibienzaun Sachsenburg
END:VEVENT
END:VCALENDAR
