BEGIN:VCALENDAR
VERSION:2.0
PRODID:-//gruenesbrett//NONSGML v1.0//EN
X-WR-CALNAME:Grünes Brett
BEGIN:VEVENT
UID:p57dkvj7n483t@gruenesbrett
DTSTAMP:20260421T101733Z
DTSTART;TZID=Europe/Berlin:20260422T170000
DTEND;TZID=Europe/Berlin:20260422T190000
SUMMARY:Wissenswertes zum klimafreundlichen Heizen
DESCRIPTION:Zurzeit wird wieder viel über klimafreundliches Heizen diskutiert. Zugleich erleben wir die teuren Folgen unserer Gasabhängigkeit. Was können wir praktisch tun?   Bernhard Herrmann, Ingenieur und ehem. Bundestagsabgeordneter, sowie Stephan Schwarzbold, Verbraucherzentrale Sachsen, berichten aus Verbraucher- und Mietersicht über Möglichkeiten und Grenzen, das Haus oder die Wohnung klimafreundlich zu heizen. Ausreichend Zeit für Fragen zur eigenen Wärmeversorgung ist vorgesehen.  Eine Veranstaltung im Rahmen des Jahresprogramms der Lokalen Agenda und des Hauses Umweltzentrum; Programm bald hier zu finden: www.umweltzentrum-chemnitz.de .
CATEGORIES:Diskussion,Vortrag
URL:https://www.gruenesbrett.net/veranstaltung/p57dkvj7n483t
LOCATION:Umweltzentrum
END:VEVENT
END:VCALENDAR
