BEGIN:VCALENDAR
VERSION:2.0
PRODID:-//gruenesbrett//NONSGML v1.0//EN
X-WR-CALNAME:Grünes Brett
BEGIN:VEVENT
UID:uh5vuejnocj5z@gruenesbrett
DTSTAMP:20260422T101348Z
DTSTART;TZID=Europe/Berlin:20260508T150000
DTEND;TZID=Europe/Berlin:20260508T180000
SUMMARY:Offener Ideengarten
DESCRIPTION:Wir laden herzlichen zum offenen Ideengarten ein. Es kann gegärtnert, gequatscht und ausgetauscht werden. Wer einfach die Sonne im Garten genießen möchte kann ebenfalls gerne vorbei schauen.   Bringt gerne snacks und eurer Kinder mit.
CATEGORIES:Treffen
URL:https://www.gruenesbrett.net/veranstaltung/uh5vuejnocj5z
LOCATION:Ideengarten Karree 72
END:VEVENT
END:VCALENDAR
